BEGIN:VCALENDAR
VERSION:2.0
PRODID:-//Plone.org//NONSGML plone.app.event//EN
X-WR-TIMEZONE:Europe/Berlin
BEGIN:VEVENT
SUMMARY:Dies Academicus
DTSTART;VALUE=DATE:20260520
DTEND;VALUE=DATE:20260521
DTSTAMP:20260422T210744Z
UID:e2b6862ba9484340921709cf1e3a5479@www.geographie.uni-bonn.de
CATEGORIES:mittwochs
CREATED:20260304T153946Z
DESCRIPTION:Auch in diesem Semester bietet die Universität Bonn am Dies A
 cademicus eine Vielfalt von Veranstaltungen\, Ausstellungen\, Führungen u
 nd Vorträgen an\, zu denen alle Studierende und interessierten Bürger*in
 nen herzlich eingeladen sind.\n\nDie Vorträge finden im Hauptgebäude der
  Universität statt.\nFür einen Besuch des Dies Academicus ist keine vorh
 erige Anmeldung erforderlich.\nDas Programm erscheint wenige Wochen vor de
 m Termin auf der Homepage des Studium Universale (Link folgt in Kürze).
LAST-MODIFIED:20260316T145741Z
URL:https://www.geographie.uni-bonn.de/de/veranstaltungen/dies-academicus-
 2
END:VEVENT
END:VCALENDAR
